BEGIN:VCALENDAR
VERSION:2.0
PRODID:-// - ECPv4.2.4//NONSGML v1.0//EN
CALSCALE:GREGORIAN
METHOD:PUBLISH
X-WR-CALNAME:
X-ORIGINAL-URL:https://fraeuleinwunderag.net
X-WR-CALDESC:Events for 
BEGIN:VEVENT
DTSTART;TZID=UTC+0:20250201T100000
DTEND;TZID=UTC+0:20250201T113000
DTSTAMP:20260421T094949
CREATED:20241223T175218
LAST-MODIFIED:20241223T175218
UID:4123-1738404000-1738409400@fraeuleinwunderag.net
SUMMARY:Schon wieder: Gebären in Hildesheim
DESCRIPTION:SCHON WIEDER: GEBÄREN\nEin Nachbereitungskurs für alle\, die schon da sind\nVideoinstallation für 2 Personen\nhttps://theaterhaus-hildesheim.de/veranstaltung/frl-wunder-ag-schon-wieder-gebaeren-13/\n
URL:https://fraeuleinwunderag.net/event/schon-wieder-gebaeren-in-hildesheim-13/
END:VEVENT
END:VCALENDAR